﻿BEGIN:VCALENDAR
PRODID:-//146.185.150.6//NONSGML iCalcreator 2.6//
VERSION:2.0
BEGIN:VEVENT
UID:20260423T135003CEST-8122jLNwlS@146.185.150.6
DTSTAMP:20260423T115003Z
DESCRIPTION:Stadiumi 'Kastrioti' - Krujë
DTSTART:20150916T170000
DTEND:20150916T184500
LOCATION:Kruje\,
SUMMARY:Kupa e Shqiperise 2015-16 :Kastrioti - Beselidhja
END:VEVENT
BEGIN:VEVENT
UID:20260423T135003CEST-81268i3pjw@146.185.150.6
DTSTAMP:20260423T115003Z
DESCRIPTION:Stadiumi 'Brian Filipi' - Lezhë
DTSTART:20150930T163000
DTEND:20150930T181500
LOCATION:Lezhë\,
SUMMARY:Kupa e Shqiperise 2015-16 :Beselidhja - Kastrioti
END:VEVENT
BEGIN:VEVENT
UID:20260423T135003CEST-81282Hffwx@146.185.150.6
DTSTAMP:20260423T115003Z
DESCRIPTION:Stadiumi 'Kastrioti' - Krujë
DTSTART:20151021T153000
DTEND:20151021T171500
LOCATION:Kruje\,
SUMMARY:Kupa e Shqiperise 2015-16 :Kastrioti - Tirana
END:VEVENT
BEGIN:VEVENT
UID:20260423T135003CEST-8131gU7L8F@146.185.150.6
DTSTAMP:20260423T115003Z
DESCRIPTION:Stadiumi 'Selman Stërmasi'
DTSTART:20151104T150000
DTEND:20151104T164500
LOCATION:Stadiumi Selman Stërmasi\,  Tirana
SUMMARY:Kupa e Shqiperise 2015-16 :Tirana - Kastrioti
END:VEVENT
END:VCALENDAR
