﻿BEGIN:VCALENDAR
PRODID:-//146.185.150.6//NONSGML iCalcreator 2.6//
VERSION:2.0
BEGIN:VEVENT
UID:20260423T121321CEST-6655mXvEms@146.185.150.6
DTSTAMP:20260423T101321Z
DESCRIPTION:Stadiumi 'Besa' - Kavaja
DTSTART:20150916T170000
DTEND:20150916T184500
LOCATION:Kavaje\,
SUMMARY:Kupa e Shqiperise 2015-16 :Besa - Laci
END:VEVENT
BEGIN:VEVENT
UID:20260423T121321CEST-6659tVGRFK@146.185.150.6
DTSTAMP:20260423T101321Z
DESCRIPTION:Fusha Sportive Laç
DTSTART:20150930T163000
DTEND:20150930T181500
LOCATION:Laç\,
SUMMARY:Kupa e Shqiperise 2015-16 :Laci - Besa
END:VEVENT
BEGIN:VEVENT
UID:20260423T121321CEST-6665l1auVv@146.185.150.6
DTSTAMP:20260423T101321Z
DESCRIPTION:Fusha Sportive Laç
DTSTART:20151021T153000
DTEND:20151021T171500
LOCATION:Laç\,
SUMMARY:Kupa e Shqiperise 2015-16 :Bylis - Laci
END:VEVENT
BEGIN:VEVENT
UID:20260423T121321CEST-6669dxpwuN@146.185.150.6
DTSTAMP:20260423T101321Z
DESCRIPTION:Fusha Sportive Laç
DTSTART:20151104T150000
DTEND:20151104T164500
LOCATION:Laç\,
SUMMARY:Kupa e Shqiperise 2015-16 :Laci - Bylis
END:VEVENT
BEGIN:VEVENT
UID:20260423T121321CEST-6674kjrg7o@146.185.150.6
DTSTAMP:20260423T101321Z
DESCRIPTION:Fusha Sportive Laç
DTSTART:20160123T150000
DTEND:20160123T164500
LOCATION:Laç\,
SUMMARY:Kupa e Shqiperise 2015-16 :Laci - Partizani
END:VEVENT
BEGIN:VEVENT
UID:20260423T121321CEST-6679vbfu3A@146.185.150.6
DTSTAMP:20260423T101321Z
DESCRIPTION:Stadiumi Kombetar 'Qemal Stafa' - Tirana
DTSTART:20160217T180000
DTEND:20160217T194500
LOCATION:Tiranë\, Shqipëria (Stadiumi Qemal Stafa)\,  Tirana
SUMMARY:Kupa e Shqiperise 2015-16 :Partizani - Laci
END:VEVENT
BEGIN:VEVENT
UID:20260423T121321CEST-6684vo9Avk@146.185.150.6
DTSTAMP:20260423T101321Z
DESCRIPTION:Fusha Sportive Laç
DTSTART:20160406T170000
DTEND:20160406T184500
LOCATION:Laç\,
SUMMARY:Kupa e Shqiperise 2015-16 :Laci - Skenderbeu
END:VEVENT
BEGIN:VEVENT
UID:20260423T121321CEST-6689fv8IKg@146.185.150.6
DTSTAMP:20260423T101321Z
DESCRIPTION:Stadiumi 'Skënderbeu'
DTSTART:20160420T163000
DTEND:20160420T181500
LOCATION:Korçë\,
SUMMARY:Kupa e Shqiperise 2015-16 :Skenderbeu - Laci
END:VEVENT
BEGIN:VEVENT
UID:20260423T121321CEST-6693gGgeIa@146.185.150.6
DTSTAMP:20260423T101321Z
DESCRIPTION:Stadiumi Kombetar 'Qemal Stafa' - Tirana
DTSTART:20160522T200000
DTEND:20160522T214500
LOCATION:Tiranë\, Shqipëria (Stadiumi Qemal Stafa)\,  Tirana
SUMMARY:Kupa e Shqiperise 2015-16 :Laci - Kukësi
END:VEVENT
END:VCALENDAR
