﻿BEGIN:VCALENDAR
PRODID:-//146.185.150.6//NONSGML iCalcreator 2.6//
VERSION:2.0
BEGIN:VEVENT
UID:20260423T151945CEST-8121P3KMr7@146.185.150.6
DTSTAMP:20260423T131945Z
DESCRIPTION:
DTSTART:20150906T180000
DTEND:20150906T194500
LOCATION:
SUMMARY:Kupa e Shqiperise 2015-16 :Tomori - Skenderbeu
END:VEVENT
BEGIN:VEVENT
UID:20260423T151945CEST-8124jmluRF@146.185.150.6
DTSTAMP:20260423T131945Z
DESCRIPTION:Stadiumi 'Skënderbeu'
DTSTART:20151009T163000
DTEND:20151009T181500
LOCATION:Korçë\,
SUMMARY:Kupa e Shqiperise 2015-16 :Skenderbeu - Tomori
END:VEVENT
END:VCALENDAR
