﻿BEGIN:VCALENDAR
PRODID:-//146.185.150.6//NONSGML iCalcreator 2.6//
VERSION:2.0
BEGIN:VEVENT
UID:20260423T152910CEST-7987eehC8V@146.185.150.6
DTSTAMP:20260423T132910Z
DESCRIPTION:Stadiumi Kombetar 'Qemal Stafa' - Tirana
DTSTART:20150204T150000
DTEND:20150204T164500
LOCATION:Tiranë\, Shqipëria (Stadiumi Qemal Stafa)\,  Tirana
SUMMARY:Kupa e Shqiperise 2014-15 :Partizani - Laci
END:VEVENT
BEGIN:VEVENT
UID:20260423T152910CEST-79901wm98V@146.185.150.6
DTSTAMP:20260423T132910Z
DESCRIPTION:Fusha Sportive Laç
DTSTART:20150218T150000
DTEND:20150218T164500
LOCATION:Laç\,
SUMMARY:Kupa e Shqiperise 2014-15 :Laci - Partizani
END:VEVENT
END:VCALENDAR
