﻿BEGIN:VCALENDAR
PRODID:-//146.185.150.6//NONSGML iCalcreator 2.6//
VERSION:2.0
BEGIN:VEVENT
UID:20260423T151946CEST-2606UAPCbB@146.185.150.6
DTSTAMP:20260423T131946Z
DESCRIPTION:Stadiumi Kombetar 'Qemal Stafa' - Tirana
DTSTART:20150204T150000
DTEND:20150204T164500
LOCATION:Tiranë\, Shqipëria (Stadiumi Qemal Stafa)\,  Tirana
SUMMARY:Kupa e Shqiperise 2014-15 :Partizani - Laci
END:VEVENT
BEGIN:VEVENT
UID:20260423T151946CEST-2609hj2d7z@146.185.150.6
DTSTAMP:20260423T131946Z
DESCRIPTION:Fusha Sportive Laç
DTSTART:20150218T150000
DTEND:20150218T164500
LOCATION:Laç\,
SUMMARY:Kupa e Shqiperise 2014-15 :Laci - Partizani
END:VEVENT
BEGIN:VEVENT
UID:20260423T151946CEST-2612hkFZJU@146.185.150.6
DTSTAMP:20260423T131946Z
DESCRIPTION:Stadiumi Kombetar 'Qemal Stafa' - Tirana
DTSTART:20150408T180000
DTEND:20150408T194500
LOCATION:Tiranë\, Shqipëria (Stadiumi Qemal Stafa)\,  Tirana
SUMMARY:Kupa e Shqiperise 2014-15 :Tirana - Laci
END:VEVENT
BEGIN:VEVENT
UID:20260423T151946CEST-26156w9IvK@146.185.150.6
DTSTAMP:20260423T131946Z
DESCRIPTION:Fusha Sportive Laç
DTSTART:20150422T163000
DTEND:20150422T181500
LOCATION:Laç\,
SUMMARY:Kupa e Shqiperise 2014-15 :Laci - Tirana
END:VEVENT
BEGIN:VEVENT
UID:20260423T151946CEST-2618tKv4gd@146.185.150.6
DTSTAMP:20260423T131946Z
DESCRIPTION:Stadiumi Kombetar 'Qemal Stafa' - Tirana
DTSTART:20150529T210000
DTEND:20150529T224500
LOCATION:Tiranë\, Shqipëria (Stadiumi Qemal Stafa)\,  Tirana
SUMMARY:Kupa e Shqiperise 2014-15 :Kukësi - Laci
END:VEVENT
END:VCALENDAR
