﻿BEGIN:VCALENDAR
PRODID:-//146.185.150.6//NONSGML iCalcreator 2.6//
VERSION:2.0
BEGIN:VEVENT
UID:20260423T151945CEST-3360ut708u@146.185.150.6
DTSTAMP:20260423T131945Z
DESCRIPTION:Stadiumi 'Flamurtari' - Vlorë
DTSTART:20150204T180000
DTEND:20150204T194500
LOCATION:Vlore\,
SUMMARY:Kupa e Shqiperise 2014-15 :Flamurtari - Skenderbeu
END:VEVENT
BEGIN:VEVENT
UID:20260423T151945CEST-33633vsC0U@146.185.150.6
DTSTAMP:20260423T131945Z
DESCRIPTION:Stadiumi 'Skënderbeu'
DTSTART:20150218T150000
DTEND:20150218T164500
LOCATION:Korçë\,
SUMMARY:Kupa e Shqiperise 2014-15 :Skenderbeu - Flamurtari
END:VEVENT
END:VCALENDAR
