﻿BEGIN:VCALENDAR
PRODID:-//146.185.150.6//NONSGML iCalcreator 2.6//
VERSION:2.0
BEGIN:VEVENT
UID:20260422T225939CEST-0755R8J9H9@146.185.150.6
DTSTAMP:20260422T205939Z
DESCRIPTION:
DTSTART:20140816T163000
DTEND:20140816T181500
LOCATION:
SUMMARY:Raiffeisen Superliga Kosove 2014-15 :PRISHTINA - KF ISTOGU
END:VEVENT
BEGIN:VEVENT
UID:20260422T225939CEST-0758MjNUWL@146.185.150.6
DTSTAMP:20260422T205939Z
DESCRIPTION:Stadiumi 'Shahin Haxhiislami' - Pejë
DTSTART:20140824T163000
DTEND:20140824T181500
LOCATION:PejÃ«\,
SUMMARY:Raiffeisen Superliga Kosove 2014-15 :BESA - PRISHTINA
END:VEVENT
BEGIN:VEVENT
UID:20260422T225939CEST-0760WUrNWa@146.185.150.6
DTSTAMP:20260422T205939Z
DESCRIPTION:Stadiumi 'Shahin Haxhiislami' - Pejë
DTSTART:20140830T163000
DTEND:20140830T181500
LOCATION:PejÃ«\,
SUMMARY:Raiffeisen Superliga Kosove 2014-15 :PRISHTINA - TREPCA 89
END:VEVENT
BEGIN:VEVENT
UID:20260422T225939CEST-0763RDxdcM@146.185.150.6
DTSTAMP:20260422T205939Z
DESCRIPTION:Stadiumi 'Shahin Haxhiislami' - Pejë
DTSTART:20140903T163000
DTEND:20140903T181500
LOCATION:PejÃ«\,
SUMMARY:Raiffeisen Superliga Kosove 2014-15 :PRISHTINA - FERONIKELI
END:VEVENT
BEGIN:VEVENT
UID:20260422T225939CEST-0766w3JZU8@146.185.150.6
DTSTAMP:20260422T205939Z
DESCRIPTION:Stadiumi 'Ferki Aliu' - Vushtri
DTSTART:20140914T163000
DTEND:20140914T181500
LOCATION:Vushtrri\,
SUMMARY:Raiffeisen Superliga Kosove 2014-15 :KOSOVA(V) - PRISHTINA
END:VEVENT
BEGIN:VEVENT
UID:20260422T225939CEST-0768gKBUam@146.185.150.6
DTSTAMP:20260422T205939Z
DESCRIPTION:Stadiumi 'Ferki Aliu' - Vushtri
DTSTART:20140920T163000
DTEND:20140920T181500
LOCATION:Vushtrri\,
SUMMARY:Raiffeisen Superliga Kosove 2014-15 :PRISHTINA - VELLAZNIMI
END:VEVENT
BEGIN:VEVENT
UID:20260422T225939CEST-0771GUHJvL@146.185.150.6
DTSTAMP:20260422T205939Z
DESCRIPTION:Stadiumi 'Ferki Aliu' - Vushtri
DTSTART:20140928T160000
DTEND:20140928T174500
LOCATION:Vushtrri\,
SUMMARY:Raiffeisen Superliga Kosove 2014-15 :TREPCA - PRISHTINA
END:VEVENT
BEGIN:VEVENT
UID:20260422T225939CEST-0773wzxvIo@146.185.150.6
DTSTAMP:20260422T205939Z
DESCRIPTION:Stadiumi 'Ferki Aliu' - Vushtri
DTSTART:20141003T163000
DTEND:20141003T181500
LOCATION:Vushtrri\,
SUMMARY:Raiffeisen Superliga Kosove 2014-15 :PRISHTINA - FERIZAJ
END:VEVENT
BEGIN:VEVENT
UID:20260422T225939CEST-0776Ru85W6@146.185.150.6
DTSTAMP:20260422T205939Z
DESCRIPTION:Stadiumi 'Bajram Aliu' - Skënderaj
DTSTART:20141008T163000
DTEND:20141008T181500
LOCATION:SkÃ«nderaj\,
SUMMARY:Raiffeisen Superliga Kosove 2014-15 :DRENICA - PRISHTINA
END:VEVENT
BEGIN:VEVENT
UID:20260422T225939CEST-0778Rv0nZ7@146.185.150.6
DTSTAMP:20260422T205939Z
DESCRIPTION:Stadiumi 'Bajram Aliu' - Skënderaj
DTSTART:20141015T163000
DTEND:20141015T181500
LOCATION:SkÃ«nderaj\,
SUMMARY:Raiffeisen Superliga Kosove 2014-15 :PRISHTINA - DRITA
END:VEVENT
BEGIN:VEVENT
UID:20260422T225939CEST-0780Kc3DzI@146.185.150.6
DTSTAMP:20260422T205939Z
DESCRIPTION:Stadiumi i Qytetit - Kishnicë
DTSTART:20141019T150000
DTEND:20141019T164500
LOCATION:\,  Kishnica
SUMMARY:Raiffeisen Superliga Kosove 2014-15 :HAJVALIA - PRISHTINA
END:VEVENT
BEGIN:VEVENT
UID:20260422T225939CEST-0783ganV4n@146.185.150.6
DTSTAMP:20260422T205939Z
DESCRIPTION:Stadiumi i Qytetit - Kishnicë
DTSTART:20141026T150000
DTEND:20141026T164500
LOCATION:\,  Kishnica
SUMMARY:Raiffeisen Superliga Kosove 2014-15 :KF ISTOGU - PRISHTINA
END:VEVENT
BEGIN:VEVENT
UID:20260422T225939CEST-0785OzDTfG@146.185.150.6
DTSTAMP:20260422T205939Z
DESCRIPTION:Stadiumi i Qytetit - Kishnicë
DTSTART:20141101T163000
DTEND:20141101T181500
LOCATION:\,  Kishnica
SUMMARY:Raiffeisen Superliga Kosove 2014-15 :PRISHTINA - BESA
END:VEVENT
BEGIN:VEVENT
UID:20260422T225939CEST-0788Abwmeh@146.185.150.6
DTSTAMP:20260422T205939Z
DESCRIPTION:Stadiumi 'Riza Lushta' - Mitrovicë
DTSTART:20141109T140000
DTEND:20141109T154500
LOCATION:\,  Mitrovica
SUMMARY:Raiffeisen Superliga Kosove 2014-15 :TREPCA 89 - PRISHTINA
END:VEVENT
BEGIN:VEVENT
UID:20260422T225939CEST-0790dt2Lzb@146.185.150.6
DTSTAMP:20260422T205939Z
DESCRIPTION:Stadiumi 'Riza Lushta' - Mitrovicë
DTSTART:20141116T163000
DTEND:20141116T181500
LOCATION:\,  Mitrovica
SUMMARY:Raiffeisen Superliga Kosove 2014-15 :FERONIKELI - PRISHTINA
END:VEVENT
BEGIN:VEVENT
UID:20260422T225939CEST-0792MOHhz9@146.185.150.6
DTSTAMP:20260422T205939Z
DESCRIPTION:Stadiumi 'Riza Lushta' - Mitrovicë
DTSTART:20141222T163000
DTEND:20141222T181500
LOCATION:\,  Mitrovica
SUMMARY:Raiffeisen Superliga Kosove 2014-15 :PRISHTINA - KOSOVA(V)
END:VEVENT
BEGIN:VEVENT
UID:20260422T225939CEST-0795iSuNZT@146.185.150.6
DTSTAMP:20260422T205939Z
DESCRIPTION:Stadiumi 'Riza Lushta' - Mitrovicë
DTSTART:20150301T140000
DTEND:20150301T154500
LOCATION:\,  Mitrovica
SUMMARY:Raiffeisen Superliga Kosove 2014-15 :VELLAZNIMI - PRISHTINA
END:VEVENT
BEGIN:VEVENT
UID:20260422T225939CEST-0797Bkgftm@146.185.150.6
DTSTAMP:20260422T205939Z
DESCRIPTION:Stadiumi 'Riza Lushta' - Mitrovicë
DTSTART:20150314T160000
DTEND:20150314T174500
LOCATION:\,  Mitrovica
SUMMARY:Raiffeisen Superliga Kosove 2014-15 :PRISHTINA - TREPCA
END:VEVENT
BEGIN:VEVENT
UID:20260422T225939CEST-0800avT5kD@146.185.150.6
DTSTAMP:20260422T205939Z
DESCRIPTION:Stadiumi 'Riza Lushta' - Mitrovicë
DTSTART:20150322T140000
DTEND:20150322T154500
LOCATION:\,  Mitrovica
SUMMARY:Raiffeisen Superliga Kosove 2014-15 :FERIZAJ - PRISHTINA
END:VEVENT
BEGIN:VEVENT
UID:20260422T225939CEST-0802tnTTnp@146.185.150.6
DTSTAMP:20260422T205939Z
DESCRIPTION:Stadiumi 'Riza Lushta' - Mitrovicë
DTSTART:20150331T140000
DTEND:20150331T154500
LOCATION:\,  Mitrovica
SUMMARY:Raiffeisen Superliga Kosove 2014-15 :PRISHTINA - DRENICA
END:VEVENT
BEGIN:VEVENT
UID:20260422T225939CEST-0805GsxcL5@146.185.150.6
DTSTAMP:20260422T205939Z
DESCRIPTION:Stadiumi i Qytetit - Gjilan
DTSTART:20150405T140000
DTEND:20150405T154500
LOCATION: \,
SUMMARY:Raiffeisen Superliga Kosove 2014-15 :DRITA - PRISHTINA
END:VEVENT
BEGIN:VEVENT
UID:20260422T225939CEST-0808KZ1pmO@146.185.150.6
DTSTAMP:20260422T205939Z
DESCRIPTION:Stadiumi i Qytetit - Gjilan
DTSTART:20150411T150000
DTEND:20150411T164500
LOCATION: \,
SUMMARY:Raiffeisen Superliga Kosove 2014-15 :PRISHTINA - HAJVALIA
END:VEVENT
BEGIN:VEVENT
UID:20260422T225939CEST-08102xMejo@146.185.150.6
DTSTAMP:20260422T205939Z
DESCRIPTION:Stadiumi i Qytetit - Gjilan
DTSTART:20150419T150000
DTEND:20150419T164500
LOCATION: \,
SUMMARY:Raiffeisen Superliga Kosove 2014-15 :PRISHTINA - VELLAZNIMI
END:VEVENT
BEGIN:VEVENT
UID:20260422T225939CEST-0813tXUBfV@146.185.150.6
DTSTAMP:20260422T205939Z
DESCRIPTION:Stadiumi i Qytetit - Gjilan
DTSTART:20150425T150000
DTEND:20150425T164500
LOCATION: \,
SUMMARY:Raiffeisen Superliga Kosove 2014-15 :KF ISTOGU - PRISHTINA
END:VEVENT
BEGIN:VEVENT
UID:20260422T225939CEST-0815IPNEC5@146.185.150.6
DTSTAMP:20260422T205939Z
DESCRIPTION:Stadiumi i Qytetit - Gjilan
DTSTART:20150430T150000
DTEND:20150430T164500
LOCATION: \,
SUMMARY:Raiffeisen Superliga Kosove 2014-15 :PRISHTINA - DRITA
END:VEVENT
BEGIN:VEVENT
UID:20260422T225939CEST-0818xs1SdC@146.185.150.6
DTSTAMP:20260422T205939Z
DESCRIPTION:Stadiumi i Qytetit - Gjilan
DTSTART:20150503T150000
DTEND:20150503T164500
LOCATION: \,
SUMMARY:Raiffeisen Superliga Kosove 2014-15 :FERIZAJ - PRISHTINA
END:VEVENT
BEGIN:VEVENT
UID:20260422T225939CEST-0820vtHuTJ@146.185.150.6
DTSTAMP:20260422T205939Z
DESCRIPTION:Stadiumi i Qytetit - Gjilan
DTSTART:20150509T150000
DTEND:20150509T164500
LOCATION: \,
SUMMARY:Raiffeisen Superliga Kosove 2014-15 :PRISHTINA - TREPCA
END:VEVENT
BEGIN:VEVENT
UID:20260422T225939CEST-0823EJNzgo@146.185.150.6
DTSTAMP:20260422T205939Z
DESCRIPTION:Stadiumi 'Ferki Aliu' - Vushtri
DTSTART:20150513T160000
DTEND:20150513T174500
LOCATION:Vushtrri\,
SUMMARY:Raiffeisen Superliga Kosove 2014-15 :KOSOVA(V) - PRISHTINA
END:VEVENT
BEGIN:VEVENT
UID:20260422T225939CEST-08259lKM7u@146.185.150.6
DTSTAMP:20260422T205939Z
DESCRIPTION:Stadiumi 'Ferki Aliu' - Vushtri
DTSTART:20150516T160000
DTEND:20150516T174500
LOCATION:Vushtrri\,
SUMMARY:Raiffeisen Superliga Kosove 2014-15 :PRISHTINA - TREPCA 89
END:VEVENT
BEGIN:VEVENT
UID:20260422T225939CEST-0828aVLbRg@146.185.150.6
DTSTAMP:20260422T205939Z
DESCRIPTION:Stadiumi i Qytetit - Kishnicë
DTSTART:20150524T170000
DTEND:20150524T184500
LOCATION:\,  Kishnica
SUMMARY:Raiffeisen Superliga Kosove 2014-15 :HAJVALIA - PRISHTINA
END:VEVENT
END:VCALENDAR
